BEGIN:VCALENDAR
VERSION:2.0
PRODID:-//wp-events-plugin.com//7.2.3.1//EN
TZID:Europe/Berlin
X-WR-TIMEZONE:Europe/Berlin
BEGIN:VEVENT
UID:3356@inselrundblick.de
DTSTART;TZID=Europe/Berlin:20260622T150000
DTEND;TZID=Europe/Berlin:20260624T180000
DTSTAMP:20260410T094739Z
URL:https://inselrundblick.de/events/wendo-kurs-fuer-frauen-dreitaegig/
SUMMARY:WenDo-Kurs für Frauen\, dreitägig
DESCRIPTION:Jede Frau darf sich schützen!\nWenDo-Kurs für Frauen zur Selb
 st-Verteidigung und Selbst-Behauptung\n\nMittwoch\, 22.06.2026\nDonnerstag
 \, 23.06.2026\nFreitag\, 24.06.2026\n\nImmer von 15:00 bis 18:00 Uhr\n\nWe
 nDo heißt übersetzt: Weg der Frauen. WenDo ist Selbst-Behauptung und Sel
 bst-Verteidigung für Frauen und Mädchen.\nSelbst-Behauptung heißt: sich
  durchsetzen - mit Worten\, mit der Stimme und mit der Körpersprache.\nSe
 lbst-Verteidigung heißt: sich schützen und sich wehren bei Gefahr – mi
 t Händen\, Füßen\, Ellbogen oder auch mit Gegenständen.\nJede Frau hat
  das Recht sich zu schützen. Bei dem WenDo-Kurs kann jede Frau erfahren\,
  welche Stärken sie hat. Sie kann neue Techniken dazu lernen. Alle Frauen
  aus dem Wilhelmsburger Bahnhofs- und Korallusviertel können teilnehmen 
 – egal wie alt\, auch mit unterschiedlichen körperlichen Möglichkeiten
  oder Einschränkungen.\n\nWichtig: Die Anmeldung ist nur bei Teilnahme an
  allen drei Tagen möglich.\nKosten: 10 Euro für alle 3 Termine (bar beim
  1. Termin).\n\nKursleitung: Renate Bergmann\nDer Kurs findet im Theaterra
 um im Bildungszentrum „Tor zur Welt“\, Krieterstr. 2d\, 21109 Hamburg\
 , statt\nAnmeldung:  Im Stadtteilbüro Wilhelmsburg Ost\nE-Mail: wilhelms
 burg-ost@lawaetz.de\nTelefon: 040 23830907\n\nBitte bei der Anmeldung ange
 ben:\nName\, E-Mail-Adresse\, Telefonnummer\, Adresse\nBrauchen Sie eine K
 inderbetreuung? =&gt\; Alter Kind/Kinder\nBrauchen Sie eine Übersetzung? 
 =&gt\; Sprache\nDer Kurs wird veranstaltet und finanziert vom Stadtteilbü
 ro Wilhelmsburg Ost aus Mittel des Rahmenprogramms Integrierte Stadtteilen
 twicklung.
ATTACH;FMTTYPE=image/jpeg:https://inselrundblick.de/wp-content/uploads/202
 6/04/Standard-Chat-GPT-Selbstverteidigung-in-Aktion.png
CATEGORIES:Frauen
LOCATION:Bildungszentrum Tor zur Welt\, Krieterstraße 2d\, Hamburg\, 21109
 \, Deutschland
X-APPLE-STRUCTURED-LOCATION;VALUE=URI;X-ADDRESS=Krieterstraße 2d\, Hamburg
 \, 21109\, Deutschland;X-APPLE-RADIUS=100;X-TITLE=Bildungszentrum Tor zur 
 Welt:geo:0,0
END:VEVENT
BEGIN:VTIMEZONE
TZID:Europe/Berlin
X-LIC-LOCATION:Europe/Berlin
BEGIN:DAYLIGHT
DTSTART:20260329T030000
TZOFFSETFROM:+0100
TZOFFSETTO:+0200
TZNAME:CEST
END:DAYLIGHT
END:VTIMEZONE
END:VCALENDAR