BEGIN:VCALENDAR
VERSION:2.0
PRODID:-//wp-events-plugin.com//7.2.3.1//EN
TZID:Europe/Berlin
X-WR-TIMEZONE:Europe/Berlin
BEGIN:VEVENT
UID:1022@inselrundblick.de
DTSTART;TZID=Europe/Berlin:20251216T160000
DTEND;TZID=Europe/Berlin:20261229T170000
DTSTAMP:20260314T180619Z
URL:https://inselrundblick.de/events/vorlesen-kinder-kirchdorf/
SUMMARY:Vorlesen für Kinder
DESCRIPTION:\n\nIn bunten Bilderbüchern spazieren gehen\, spannende Geschi
 chten hören\, Spaß in der Gruppe haben\, zuhören\, fragen\, erzählen
 …\n\nJeden Dienstag von 16–17 Uhr lesen Ehrenamtliche der Lesewelt Ham
 burg e.V. in der Bücherhalle Kirchdorf vor.\n\nAlle Kinder zwischen 4 und
  10 Jahren sind hierzu herzlich eingeladen. Der Eintritt ist frei. Gruppen
  bitte anmelden!\n\n\nImage by Christiane from Pixabay
ATTACH;FMTTYPE=image/jpeg:https://inselrundblick.de/wp-content/uploads/202
 5/12/still-life-1037378_1280.jpg
CATEGORIES:Regelmäßig,Veranstaltung
LOCATION:Bücherhalle Kirchdorf\, Wilhelm-Strauß-Weg 2\, Hamburg\, 21109\,
  Deutschland
X-APPLE-STRUCTURED-LOCATION;VALUE=URI;X-ADDRESS=Wilhelm-Strauß-Weg 2\, Ham
 burg\, 21109\, Deutschland;X-APPLE-RADIUS=100;X-TITLE=Bücherhalle Kirchdo
 rf:geo:0,0
END:VEVENT
BEGIN:VTIMEZONE
TZID:Europe/Berlin
X-LIC-LOCATION:Europe/Berlin
BEGIN:STANDARD
DTSTART:20251026T020000
TZOFFSETFROM:+0200
TZOFFSETTO:+0100
TZNAME:CET
END:STANDARD
BEGIN:DAYLIGHT
DTSTART:20260329T030000
TZOFFSETFROM:+0100
TZOFFSETTO:+0200
TZNAME:CEST
END:DAYLIGHT
BEGIN:STANDARD
DTSTART:20261025T020000
TZOFFSETFROM:+0200
TZOFFSETTO:+0100
TZNAME:CET
END:STANDARD
END:VTIMEZONE
END:VCALENDAR