BEGIN:VCALENDAR
VERSION:2.0
PRODID:-//wp-events-plugin.com//7.2.3.1//EN
TZID:Europe/Berlin
X-WR-TIMEZONE:Europe/Berlin
BEGIN:VEVENT
UID:2610@inselrundblick.de
DTSTART;TZID=Europe/Berlin:20260205T200000
DTEND;TZID=Europe/Berlin:20271202T230000
DTSTAMP:20260314T180706Z
URL:https://inselrundblick.de/events/viertelrunde/
SUMMARY:Viertelrunde
DESCRIPTION:Packt eure Tischtenniskellen ein\, kommt vorbei und spielt an z
 wei Platten Rundlauf mit uns. Das Ganze wird begleitet von mehreren DJs\, 
 welche einen bunten Genre Mix auflegen.\n\nJeden ersten Donnerstag in der 
 Honigfabrik!\n\nAktuelle Infos gibt es auf dem Instagram Account @viertelr
 unde\n\nFoto: Honigfabrik
ATTACH;FMTTYPE=image/jpeg:https://inselrundblick.de/wp-content/uploads/202
 6/02/05.02.-VIERTELRUNDE.jpg
CATEGORIES:Regelmäßig,Sport
LOCATION:Honigfabrik\, Industriestraße 125–131 \, Hamburg\, 21107\, Deut
 schland
X-APPLE-STRUCTURED-LOCATION;VALUE=URI;X-ADDRESS=Industriestraße 125–131 
 \, Hamburg\, 21107\, Deutschland;X-APPLE-RADIUS=100;X-TITLE=Honigfabrik:ge
 o:0,0
END:VEVENT
BEGIN:VTIMEZONE
TZID:Europe/Berlin
X-LIC-LOCATION:Europe/Berlin
BEGIN:STANDARD
DTSTART:20251026T020000
TZOFFSETFROM:+0200
TZOFFSETTO:+0100
TZNAME:CET
END:STANDARD
BEGIN:DAYLIGHT
DTSTART:20260329T030000
TZOFFSETFROM:+0100
TZOFFSETTO:+0200
TZNAME:CEST
END:DAYLIGHT
BEGIN:STANDARD
DTSTART:20261025T020000
TZOFFSETFROM:+0200
TZOFFSETTO:+0100
TZNAME:CET
END:STANDARD
BEGIN:DAYLIGHT
DTSTART:20270328T030000
TZOFFSETFROM:+0100
TZOFFSETTO:+0200
TZNAME:CEST
END:DAYLIGHT
BEGIN:STANDARD
DTSTART:20271031T020000
TZOFFSETFROM:+0200
TZOFFSETTO:+0100
TZNAME:CET
END:STANDARD
END:VTIMEZONE
END:VCALENDAR