BEGIN:VCALENDAR
VERSION:2.0
PRODID:-//wp-events-plugin.com//7.2.3.1//EN
TZID:Europe/Berlin
X-WR-TIMEZONE:Europe/Berlin
BEGIN:VEVENT
UID:2767@inselrundblick.de
DTSTART;TZID=Europe/Berlin:20260503T110000
DTEND;TZID=Europe/Berlin:20260503T110000
DTSTAMP:20260421T164256Z
URL:https://inselrundblick.de/events/theater-funkenflug-zora-zampanos-zirk
 usshow/
SUMMARY:Theater FunkenFlug: Zora Zampanos Zirkusshow …
DESCRIPTION:… oder kann man das schon zeigen?\nEin Theaterstück über Mu
 t\, Talent und den Weg auf die Bühne\nZora gehört zur Zirkusfamilie – 
 aber auf die Bühne darf sie nicht. Während die anderen auftreten\, bleib
 t sie im Hintergrund\, fegt die Manege\, sortiert Requisiten und kündigt 
 die Nummern an. Seit Jahren versucht sie vergeblich\, selbst Teil einer Sh
 ow zu werden. Bis sich eines Tages eine unerwartete Chance ergibt.\nDas Th
 eater FunkenFlug bringt mit „Zora Zampanos Zirkusshow oder kann man das 
 schon zeigen?“ ein Theaterstück für Kinder ab vier Jahren ins Bürgerh
 aus Wilhelmsburg\, das von Ausdauer\, Selbstvertrauen und dem eigenen Plat
 z im Rampenlicht erzählt.\nIm Anschluss an die Vorstellung sind die Kinde
 r eingeladen\, selbst aktiv zu werden: Bei einer kreativen Mitmachaktion m
 it der Künstlerin und Pädagogin Kristina können sie eigene Ideen auspro
 bieren. Parallel dazu bietet das Wilhelmsburger Restaurant Smutje einen g
 ünstigen Familienmittagstisch an.\nZwischen den Vorstellungen gibt es ein
 en Mittagstisch: Nudeln vom Wilhelmsburger Restaurant Der Smutje für 4 Eu
 ro pro Portion (inkl. Wasser). Und wer nach dem Theater noch Energie hat\,
  kann bei einer kreativen Mitmachaktion mit Kristina selbst aktiv werden.\
 nEs gibt zwei Theatervorstellungen\, die jeweils um 11:00 und um 12:45 Uhr
  starten.\nEintritt zum Kindertheater: Kinder 3 Euro / Erwachsene 6 Euro\,
  ermäßigt 3 Euro. Die Ermäßigung gilt für alle\, die sie brauchen. Es
  muss nichts vorgezeigt werden.\nBastelaktion mit Kristina: Mitmachen kost
 et nix!
ATTACH;FMTTYPE=image/jpeg:https://inselrundblick.de/wp-content/uploads/202
 6/04/Katrin-und-Katze-2-Foto-Thomas-Walter.jpg
CATEGORIES:Einmaliger Termin,Kinder,Theater
LOCATION:Bürgerhaus Wilhelmsburg (BüWi)\, Mengestraße 20\, Hamburg\, 211
 07\, Wilhelmsburg\, Deutschland
X-APPLE-STRUCTURED-LOCATION;VALUE=URI;X-ADDRESS=Mengestraße 20\, Hamburg\,
  21107\, Wilhelmsburg\, Deutschland;X-APPLE-RADIUS=100;X-TITLE=Bürgerhaus
  Wilhelmsburg (BüWi):geo:0,0
END:VEVENT
BEGIN:VTIMEZONE
TZID:Europe/Berlin
X-LIC-LOCATION:Europe/Berlin
BEGIN:DAYLIGHT
DTSTART:20260329T030000
TZOFFSETFROM:+0100
TZOFFSETTO:+0200
TZNAME:CEST
END:DAYLIGHT
END:VTIMEZONE
END:VCALENDAR