BEGIN:VCALENDAR
VERSION:2.0
PRODID:-//wp-events-plugin.com//7.2.3.1//EN
TZID:Europe/Berlin
X-WR-TIMEZONE:Europe/Berlin
BEGIN:VEVENT
UID:3372@inselrundblick.de
DTSTART;TZID=Europe/Berlin:20260426T100000
DTEND;TZID=Europe/Berlin:20260426T100000
DTSTAMP:20260420T103059Z
URL:https://inselrundblick.de/events/stadtteilfruehstueck/
SUMMARY:Stadtteilfrühstück
DESCRIPTION:Du lebst in Wilhelmsburg und hast Lust\, dich bei einem entspan
 nten Frühstück über die Entwicklung unseres Stadtteils auszutauschen - 
 und vielleicht sogar etwas zu bewegen?\n\nDann komm am 26.04. in die Fähr
 straße 13! In gemütlicher Runde möchten wir gemeinsam darüber sprechen
 \, wie wir unseren Stadtteil erleben\, was sich verändern sollte und wie 
 wir zusammen aktiv werden können.\n\nWir freuen uns auf dich!
ATTACH;FMTTYPE=image/jpeg:https://inselrundblick.de/wp-content/uploads/202
 6/04/IMG_6095-1.jpg
CATEGORIES:Bürgerbeteiligung,Einmaliger Termin,Stadtteilarbeit
LOCATION:Veranstaltungsort/Treffpunkt im Text\, Siehe Beschreibung im Text\
 , Elbinseln\, Deutschland
X-APPLE-STRUCTURED-LOCATION;VALUE=URI;X-ADDRESS=Siehe Beschreibung im Text\
 , Elbinseln\, Deutschland;X-APPLE-RADIUS=100;X-TITLE=Veranstaltungsort/Tre
 ffpunkt im Text:geo:0,0
END:VEVENT
BEGIN:VTIMEZONE
TZID:Europe/Berlin
X-LIC-LOCATION:Europe/Berlin
BEGIN:DAYLIGHT
DTSTART:20260329T030000
TZOFFSETFROM:+0100
TZOFFSETTO:+0200
TZNAME:CEST
END:DAYLIGHT
END:VTIMEZONE
END:VCALENDAR