BEGIN:VCALENDAR
VERSION:2.0
PRODID:-//wp-events-plugin.com//7.2.3.1//EN
TZID:Europe/Berlin
X-WR-TIMEZONE:Europe/Berlin
BEGIN:VEVENT
UID:3371@inselrundblick.de
DTSTART;TZID=Europe/Berlin:20260425T043000
DTEND;TZID=Europe/Berlin:20260425T073000
DTSTAMP:20260419T062854Z
URL:https://inselrundblick.de/events/sonnenaufgang-fotowettbewerb/
SUMMARY:Blaue Stunde: Fotowettbewerb auf dem Energieberg
DESCRIPTION:Erlebt den Energieberg zur Blauen Stunde mit Sonnenaufgang\, Fo
 towettbewerb und optionaler Vogelführung.\nOrt: Energieberg Georgswerder\
 , Fiskalische Straße 2\, 21109 Hamburg\nKostenlos\, aber nur mit Anmeldun
 g. Begrenzte Plätze für die Führung.\nDer Energieberg Georgswerder öff
 net am 25. April 2026 exklusiv in den frühen Morgenstunden zur Blauen Stu
 nde. Wenn der Himmel langsam heller wird und die Stadt erwacht\, bietet si
 ch ein besonderer Blick über Hamburg – ruhig\, stimmungsvoll und einzig
 artig.\nVon 4:30 bis 7:30 Uhr können Besucher:innen den Sonnenaufgang erl
 eben\, fotografieren oder einfach die besondere Atmosphäre genießen. Die
  Teilnahme ist kostenlos\, jedoch nur mit vorheriger Anmeldung möglich.\n
 \nIm Rahmen der Veranstaltung findet zudem der Fotowettbewerb „Blaue Stu
 nde auf dem Energieberg Georgswerder“ statt. Gesucht werden die schönst
 en Momente des Morgens – von Lichtstimmungen bis zu besonderen Perspekti
 ven.\n\nZusätzlich wird von 5:00 bis 7:00 Uhr eine ornithologische Führu
 ng mit dem erfahrenen Ornithologen Jens Sturm (BUKEA) angeboten. Dabei ler
 nen Teilnehmende die Vogelwelt des Energiebergs in den frühen Morgenstund
 en kennen. Die Führung ist ebenfalls kostenlos\, jedoch auf maximal 20 Pe
 rsonen begrenzt und erfordert eine separate Anmeldung.\n\nAnmeldung unter:
 \nhttps://www.stadtreinigung.hamburg/ueber-uns/veranstaltungen-auf-dem-ene
 rgieberg/blaue-stunde/\nBitte beachten: Die Sonderöffnung gilt ausschlie
 ßlich zwischen 4:30 und 7:30 Uhr. Danach bleibt der Energieberg geschloss
 en und öffnet wieder regulär von 12:00 bis 16:00 Uhr.
ATTACH;FMTTYPE=image/jpeg:https://inselrundblick.de/wp-content/uploads/202
 6/04/260327_VA-Datenbank-Adaptionen_VA-BlaueStunde-1600x900-1.jpg
CATEGORIES:Einmaliger Termin,Geselligkeit,Natur
LOCATION:Veranstaltungsort/Treffpunkt im Text\, Siehe Beschreibung im Text\
 , Elbinseln\, Deutschland
X-APPLE-STRUCTURED-LOCATION;VALUE=URI;X-ADDRESS=Siehe Beschreibung im Text\
 , Elbinseln\, Deutschland;X-APPLE-RADIUS=100;X-TITLE=Veranstaltungsort/Tre
 ffpunkt im Text:geo:0,0
END:VEVENT
BEGIN:VTIMEZONE
TZID:Europe/Berlin
X-LIC-LOCATION:Europe/Berlin
BEGIN:DAYLIGHT
DTSTART:20260329T030000
TZOFFSETFROM:+0100
TZOFFSETTO:+0200
TZNAME:CEST
END:DAYLIGHT
END:VTIMEZONE
END:VCALENDAR