BEGIN:VCALENDAR
VERSION:2.0
PRODID:-//wp-events-plugin.com//7.2.3.1//EN
TZID:Europe/Berlin
X-WR-TIMEZONE:Europe/Berlin
BEGIN:VEVENT
UID:1410@inselrundblick.de
DTSTART;TZID=Europe/Berlin:20260106T150000
DTEND;TZID=Europe/Berlin:20270126T170000
DTSTAMP:20260314T180621Z
URL:https://inselrundblick.de/events/solidarische-psychosoziale-hilfe/
SUMMARY:Solidarische PsychoSoziale Hilfe Hamburg e.V.
DESCRIPTION:\nWir informieren über unser Beratungsangebot und über die An
 gebote anderer Einrichtungen\, auch können kurze Fragen geklärt werden.\
 n\n\nhttps://www.spsh.de\n\n\n\n\n\n\nWilhelm-Strauß-Weg 2b\n21109 Hambur
 g\nTel: 040 26104052\nE-Mail: wilhelmsburg@spsh.de\noder info@spsh.de\n\n\
 n\n\n\n\n\nZu finden im LunaCenter\, Aufgang „Ärzte“\, 2. Stock\n\n\n
 Image by Mircea Iancu from Pixabay\n\n\n\n
ATTACH;FMTTYPE=image/jpeg:https://inselrundblick.de/wp-content/uploads/202
 5/12/Hilfe-gespraech-Image-by-Mircea-Iancu-from-Pixabay.jpg
CATEGORIES:Beratung,Information,Regelmäßig,Veranstaltung
END:VEVENT
BEGIN:VTIMEZONE
TZID:Europe/Berlin
X-LIC-LOCATION:Europe/Berlin
BEGIN:STANDARD
DTSTART:20251026T020000
TZOFFSETFROM:+0200
TZOFFSETTO:+0100
TZNAME:CET
END:STANDARD
BEGIN:DAYLIGHT
DTSTART:20260329T030000
TZOFFSETFROM:+0100
TZOFFSETTO:+0200
TZNAME:CEST
END:DAYLIGHT
BEGIN:STANDARD
DTSTART:20261025T020000
TZOFFSETFROM:+0200
TZOFFSETTO:+0100
TZNAME:CET
END:STANDARD
END:VTIMEZONE
END:VCALENDAR