BEGIN:VCALENDAR
VERSION:2.0
PRODID:-//wp-events-plugin.com//7.2.3.1//EN
TZID:Europe/Berlin
X-WR-TIMEZONE:Europe/Berlin
BEGIN:VEVENT
UID:3370@inselrundblick.de
DTSTART;TZID=Europe/Berlin:20260425T110000
DTEND;TZID=Europe/Berlin:20260425T173000
DTSTAMP:20260419T062316Z
URL:https://inselrundblick.de/events/schnellturnier-schulschach-elbinsel-p
 okal-2026/
SUMMARY:Schnellturnier im Schulschach: Elbinsel-Pokal 2026
DESCRIPTION:Für: Schüler:innen im schulpflichtigen Alter\nPersönliche An
 wesenheitsmeldung bis 11 Uhr\, danach 1. Runde.\nPreisverleihung gegen 16:
 30 Uhr.\nSpielmodus: 9 Runden Schweizer System.\n15 Minuten Bedenkzeit pro
  Spieler:in und Partie.\n\nPreise: Es gibt Pokale für Platz eins bis drei
  und Medaillen für die beste Schüler:in einer Jahrgangsstufe. Es gibt we
 itere Pokale für die beste weiterführende Schule und die beste Grundschu
 le. Zur Vergabe dieser Pokale werden die Punkte der vier besten Schüler:i
 nnen einer Schule addiert.\n\nStartgeld: 7\,‒ € bei Zahlungseingang bi
 s 30. März\, danach 10\,‒ € bevorzugt per Überweisung\, nötigenfall
 s bar vor Ort\n\nVerpflegung: Es gibt ausreichend Snacks und Getränke zu 
 günstigen Preisen.\n\nAnmeldung: bis zum 23. April über die Webseite htt
 ps://www.skw.one/elbinsel-pokal-2026\, danach vor Ort\, wenn noch Startpl
 ätze frei sind. Ob noch welche frei sind\, wird auf der Webseite veröffe
 ntlicht.\n\nDie Anmeldung gilt nur nach Zahlung des Startgeldes als vollzo
 gen!
ATTACH;FMTTYPE=image/jpeg:https://inselrundblick.de/wp-content/uploads/202
 6/04/Turniersaal-Schach-turnier-Thorsten-Fellberg.jpg
CATEGORIES:Bildung,Einmaliger
 Termin,Jugendliche,Kinder,Sport,Veranstaltung
LOCATION:Bildungszentrum Tor zur Welt\, Krieterstraße 2d\, Hamburg\, 21109
 \, Deutschland
X-APPLE-STRUCTURED-LOCATION;VALUE=URI;X-ADDRESS=Krieterstraße 2d\, Hamburg
 \, 21109\, Deutschland;X-APPLE-RADIUS=100;X-TITLE=Bildungszentrum Tor zur 
 Welt:geo:0,0
END:VEVENT
BEGIN:VTIMEZONE
TZID:Europe/Berlin
X-LIC-LOCATION:Europe/Berlin
BEGIN:DAYLIGHT
DTSTART:20260329T030000
TZOFFSETFROM:+0100
TZOFFSETTO:+0200
TZNAME:CEST
END:DAYLIGHT
END:VTIMEZONE
END:VCALENDAR