BEGIN:VCALENDAR
VERSION:2.0
PRODID:-//wp-events-plugin.com//7.2.3.1//EN
TZID:Europe/Berlin
X-WR-TIMEZONE:Europe/Berlin
BEGIN:VEVENT
UID:3281@inselrundblick.de
DTSTART;TZID=Europe/Berlin:20260412T141500
DTEND;TZID=Europe/Berlin:20260412T141500
DTSTAMP:20260331T073715Z
URL:https://inselrundblick.de/events/kino-kleine-freiheit/
SUMMARY:Kino: KLEINE FREIHEIT
DESCRIPTION:Eine Stadt sieht einen Film 2026\nMit einem genauen und empathi
 schen Blick schaut der Film auf Fragen von Zuhause-Sein\, Zugehörigkeit\,
  Identität und Freundschaft.\n\nErzählt wird die Coming-of-Age-Geschicht
 e der beiden Jugendlichen Chernor und Baran mitten in Hamburg. Baran stamm
 t aus einem kurdischen Dorf im Südosten der Türkei und hat seine Eltern 
 im gewaltvollen Konflikt verloren. Chernor kommt aus einem nicht näher be
 nannten Ort in Afrika und träumt von einem Leben in Australien.\nEintritt
  gegen Spende\nZum Event:\n\n1 Tag\, 1 Film\, 17 Kinos\n\nEinen ganzen Son
 ntag lang - 11 bis 21 Uhr - zeigen in diesem Jahr 17 Hamburger Kinos Yüks
 el Yavuz' Film Kleine Freiheit. Traditionelles Herzstück der gemeinsamen 
 Kinoveranstaltung ist die Reise des Filmteams durch die Spielstätten mit 
 Publikumsgesprächen vor Ort.\n\nMehr Infos auf eine-stadt-sieht-einen-fil
 m.de
ATTACH;FMTTYPE=image/jpeg:https://inselrundblick.de/wp-content/uploads/202
 6/03/Kino-Kleine-Freiheit-Film-.jpg
CATEGORIES:Jugendliche,Kino
LOCATION:Honigfabrik\, Industriestraße 125–131 \, Hamburg\, 21107\, Deut
 schland
X-APPLE-STRUCTURED-LOCATION;VALUE=URI;X-ADDRESS=Industriestraße 125–131 
 \, Hamburg\, 21107\, Deutschland;X-APPLE-RADIUS=100;X-TITLE=Honigfabrik:ge
 o:0,0
END:VEVENT
BEGIN:VTIMEZONE
TZID:Europe/Berlin
X-LIC-LOCATION:Europe/Berlin
BEGIN:DAYLIGHT
DTSTART:20260329T030000
TZOFFSETFROM:+0100
TZOFFSETTO:+0200
TZNAME:CEST
END:DAYLIGHT
END:VTIMEZONE
END:VCALENDAR