BEGIN:VCALENDAR
VERSION:2.0
PRODID:-//wp-events-plugin.com//7.2.3.1//EN
TZID:Europe/Berlin
X-WR-TIMEZONE:Europe/Berlin
BEGIN:VEVENT
UID:3377@inselrundblick.de
DTSTART;TZID=Europe/Berlin:20260523T110000
DTEND;TZID=Europe/Berlin:20260523T110000
DTSTAMP:20260422T195204Z
URL:https://inselrundblick.de/events/kindertheater-das-grosse-krabbeln-3/
SUMMARY:Kindertheater: Das große Krabbeln
DESCRIPTION:Das Junge Ensemble Musiktheater Hamburg (JEM)\npräsentiert mit
  seiner aktuellen Produktion „Das große Krabbeln" ein\neindrucksvolles 
 Musiktheaterstück\, das junge Perspektiven in den\nMittelpunkt stellt. Di
 e Inszenierung verbindet Musik\, Schauspiel und\nBewegung zu einem vielsch
 ichtigen Bühnenerlebnis.\nAusgangspunkt ist eine Begegnung von Kindern un
 d Jugendlichen\, die\nunterschiedlicher kaum sein könnten: Während die e
 inen spielerisch in\neine fremde Welt der Krabbeltiere/Insekten eintauchen
 \, begegnen die\nanderen ihr zunächst mit Distanz und Skepsis. Doch im Ve
 rlauf des\nStücks beginnen sich Wahrnehmungen zu verschieben - und vermei
 ntliche\nGewissheiten geraten ins Wanken.\nDie Bühne verwandelt sich dabe
 i in einen vielschichtigen Raum\, in dem\nsich Bewegung\, Klang und Bild z
 u einer eigenen Logik verbinden. Ohne\neindeutige Antworten zu geben\, er
 öffnet das Stück Assoziationen zu\nFragen von Gemeinschaft\, Verantwortu
 ng und dem Zusammenspiel von\nIndividuum und Kollektiv. Das Musiktheaterst
 ück lädt dazu ein\, genauer\nhinzusehen - und die Verbindungen wahrzuneh
 men\, die im Verborgenen\nwirken.\n\nAUFFÜHRUNGSTERMINE:\nFreitag\, 22.05
 .2026\, 11 Uhr (Schulaufführung)\nFreitag\, 22.05.2026\, 19 Uhr\nSamstag\
 , 23.05.2026\, 11 Uhr\n\nEINTRITT:\nKinder kostenfrei\nMindestpreis 5EUR\n
 Normalpreis 10 EUR\nSoli-Preis 15 EUR\nSpenden-Preis 20 EUR\n\nKARTEN ERH
 ÄLTLICH UNTER:\nhttps://rausgegangen.de/events/das-groe-krabbeln-1/\n\nMI
 T DABEI SIND KINDER\, JUGENDLICHE UND LEHRKRÄFTE …\nKlasse 3b - Katholi
 sche Schule am Weiher\nKlassen 4a und 4b - Schule auf der Veddel\nKlassen 
 5b\, 6a und 6b - Katholische Bonifatiusschule\nOrchester der Klasse 9b - S
 ophie-Barat-Schule
ATTACH;FMTTYPE=image/jpeg:https://inselrundblick.de/wp-content/uploads/202
 6/04/Juni26-loeschen-Das-grosse-krabbeln.png
CATEGORIES:Kinder,Theater
LOCATION:Bürgerhaus Wilhelmsburg (BüWi)\, Mengestraße 20\, Hamburg\, 211
 07\, Wilhelmsburg\, Deutschland
X-APPLE-STRUCTURED-LOCATION;VALUE=URI;X-ADDRESS=Mengestraße 20\, Hamburg\,
  21107\, Wilhelmsburg\, Deutschland;X-APPLE-RADIUS=100;X-TITLE=Bürgerhaus
  Wilhelmsburg (BüWi):geo:0,0
END:VEVENT
BEGIN:VTIMEZONE
TZID:Europe/Berlin
X-LIC-LOCATION:Europe/Berlin
BEGIN:DAYLIGHT
DTSTART:20260329T030000
TZOFFSETFROM:+0100
TZOFFSETTO:+0200
TZNAME:CEST
END:DAYLIGHT
END:VTIMEZONE
END:VCALENDAR