BEGIN:VCALENDAR
VERSION:2.0
PRODID:-//wp-events-plugin.com//7.2.3.1//EN
TZID:Europe/Berlin
X-WR-TIMEZONE:Europe/Berlin
BEGIN:VEVENT
UID:3368@inselrundblick.de
DTSTART;TZID=Europe/Berlin:20260503T120000
DTEND;TZID=Europe/Berlin:20260503T160000
DTSTAMP:20260416T092853Z
URL:https://inselrundblick.de/events/kanu-muell-angeln/
SUMMARY:Catch the Trash (Kanu)
DESCRIPTION:Kanu fahren und Müll angeln\n\nUnsere Gewässer werden ganz of
 t zugemüllt. Das ist nicht nur unansehnlich\, sondern auch sehr belastend
  für die Tier- und Pflanzenwelt in und um unsere Gewässer.\n\nDeshalb m
 öchten wir als BUNDjugend dazu einladen\, gemeinsam in Wilhelmsburg mit u
 nseren Kanus Müll zu sammeln! Anschließend möchten wir uns gemeinsam de
 n gesammelten Müll ansehen\, ihn wiegen\, sortieren und uns zum Thema aus
 tauschen.\n\n\nNur mit Anmeldung! Bitte per Mail an foej(at)bundjugend-ham
 burg.de\n\n
ATTACH;FMTTYPE=image/jpeg:https://inselrundblick.de/wp-content/uploads/202
 6/04/BUND-Kanu-Muell-Joerg-Farys.jpg
CATEGORIES:Veranstaltung
LOCATION:Wilhelmsburger Inselpark\, Am Inselpark 1\, Hamburg\, 21109\, Deut
 schland
X-APPLE-STRUCTURED-LOCATION;VALUE=URI;X-ADDRESS=Am Inselpark 1\, Hamburg\, 
 21109\, Deutschland;X-APPLE-RADIUS=100;X-TITLE=Wilhelmsburger Inselpark:ge
 o:0,0
END:VEVENT
BEGIN:VTIMEZONE
TZID:Europe/Berlin
X-LIC-LOCATION:Europe/Berlin
BEGIN:DAYLIGHT
DTSTART:20260329T030000
TZOFFSETFROM:+0100
TZOFFSETTO:+0200
TZNAME:CEST
END:DAYLIGHT
END:VTIMEZONE
END:VCALENDAR