BEGIN:VCALENDAR
VERSION:2.0
PRODID:-//wp-events-plugin.com//7.2.3.1//EN
TZID:Europe/Berlin
X-WR-TIMEZONE:Europe/Berlin
BEGIN:VEVENT
UID:1739@inselrundblick.de
DTSTART;TZID=Europe/Berlin:20260119T160000
DTEND;TZID=Europe/Berlin:20270118T200000
DTSTAMP:20260314T180705Z
URL:https://inselrundblick.de/events/frauenschwimmen/
SUMMARY:Frauenschwimmen
DESCRIPTION:Eine geschützte Atmosphäre\, in der Sie ganz unter sich sein 
 können – das macht unser Frauenschwimmen in der Schwimmhalle Inselpark 
 aus. Zu regelmäßigen Zeiten können Frauen und Mädchen ungestört ihre 
 Bahnen ziehen\, baden oder toben.\n\nFRAUENSCHWIMMEN\njeden Montag\n16:00 
 - 20:00 Uhr\n\nImage by Daniel Perrig from Pixabay
ATTACH;FMTTYPE=image/jpeg:https://inselrundblick.de/wp-content/uploads/202
 5/12/woman-422546_1280.jpg
CATEGORIES:Frauen,Regelmäßig,Sport
LOCATION:Schwimmhalle Inselpark\,  Kurt-Emmerich-Platz 12\, Hamburg\, 21109
 \, Deutschland
X-APPLE-STRUCTURED-LOCATION;VALUE=URI;X-ADDRESS= Kurt-Emmerich-Platz 12\, H
 amburg\, 21109\, Deutschland;X-APPLE-RADIUS=100;X-TITLE=Schwimmhalle Insel
 park:geo:0,0
END:VEVENT
BEGIN:VTIMEZONE
TZID:Europe/Berlin
X-LIC-LOCATION:Europe/Berlin
BEGIN:STANDARD
DTSTART:20251026T020000
TZOFFSETFROM:+0200
TZOFFSETTO:+0100
TZNAME:CET
END:STANDARD
BEGIN:DAYLIGHT
DTSTART:20260329T030000
TZOFFSETFROM:+0100
TZOFFSETTO:+0200
TZNAME:CEST
END:DAYLIGHT
BEGIN:STANDARD
DTSTART:20261025T020000
TZOFFSETFROM:+0200
TZOFFSETTO:+0100
TZNAME:CET
END:STANDARD
END:VTIMEZONE
END:VCALENDAR