BEGIN:VCALENDAR
VERSION:2.0
PRODID:-//wp-events-plugin.com//7.2.3.1//EN
TZID:Europe/Berlin
X-WR-TIMEZONE:Europe/Berlin
BEGIN:VEVENT
UID:3212@inselrundblick.de
DTSTART;TZID=Europe/Berlin:20260625T173000
DTEND;TZID=Europe/Berlin:20260625T173000
DTSTAMP:20260324T115911Z
URL:https://inselrundblick.de/events/die-alternative-hafenrundfahrt/
SUMMARY:Die Alternative Hafenrundfahrt
DESCRIPTION:Die Alternative Hafenrundfahrt ist keine reine „Umweltfahrt
 “\, es werden auch die Wechselwirkungen von Ökologie\, Wirtschaftsweise
 \, Standort-\, und Sozialpolitik aufgezeigt\, aktuelle Themen wie Köhlbra
 ndquerung oder Ausverkauf der HHLA inbegriffen.\nWenn Sie diese Seiten des
  Hafens kennenlernen möchten und mit uns sprechen\, was getan werden müs
 ste\, dass der Hafen der Stadt dient\, statt sie zu seiner Dienerin zu mac
 hen\, treffen wir uns auf der ALTERNATIVEN HAFENRUNDFAHRT!\n\nDie ALTERNAT
 IVE HAFENRUNDFAHRT wird 44 Jahre alt!\n\nFahrtdauer: ca. 1 1/2 Stunden\n\n
 Start: Anleger Vorsetzen (U-Bahnhof Baumwall\, City-Sportboothafen) Barkas
 sencentrale Ehlers\n\nPreis: 23\,00 € pro Person (ermäßigt 20\,00 €)
 \n\n\n\nVeranstalter:\n»Rettet die Elbe« e. V.\n0163 3623853\nbuero@rett
 et-die-elbe.de\nhttps://www.rettet-die-elbe.de\n\nBeitragsbild von Muhamma
 d Ahsan auf Pixabay
ATTACH;FMTTYPE=image/jpeg:https://inselrundblick.de/wp-content/uploads/202
 6/03/ahsan-ikram-port-4287654_1920.jpg
CATEGORIES:Information,Politik,Regelmäßig
END:VEVENT
BEGIN:VTIMEZONE
TZID:Europe/Berlin
X-LIC-LOCATION:Europe/Berlin
BEGIN:DAYLIGHT
DTSTART:20260329T030000
TZOFFSETFROM:+0100
TZOFFSETTO:+0200
TZNAME:CEST
END:DAYLIGHT
END:VTIMEZONE
END:VCALENDAR