BEGIN:VCALENDAR
VERSION:2.0
PRODID:-//wp-events-plugin.com//7.2.3.1//EN
TZID:Europe/Berlin
X-WR-TIMEZONE:Europe/Berlin
BEGIN:VEVENT
UID:2986@inselrundblick.de
DTSTART;TZID=Europe/Berlin:20260408T160000
DTEND;TZID=Europe/Berlin:20260408T170000
DTSTAMP:20260316T162111Z
URL:https://inselrundblick.de/events/bilderbuchkino-10-kleine-schafe/
SUMMARY:Bilderbuchkino "10 kleine Schafe"
DESCRIPTION:Ab 4 Jahren · Eintritt frei\n\n\n\nPATSCH!\, hüpft 1 gelbes S
 chaf in die matschige Pfütze. Kommt ein rotes dazu\, machen 2 Schafe ein 
 Picknick. Gemeinsam mit dem grünen singen 3 Schafe die schönsten Lieder.
  Und was stellen 4\, 5\, 6\, 7\, 8\, 9\, 10 freche Schafe zusammen an?\n\n
 Text: Franziska Gehm    Illustration: Marina Rachner\n\n
ATTACH;FMTTYPE=image/jpeg:https://inselrundblick.de/wp-content/uploads/202
 5/07/Image-1.jpeg
CATEGORIES:Kinder,Lesung
LOCATION:Bücherhalle Kirchdorf\, Wilhelm-Strauß-Weg 2\, Hamburg\, 21109\,
  Deutschland
X-APPLE-STRUCTURED-LOCATION;VALUE=URI;X-ADDRESS=Wilhelm-Strauß-Weg 2\, Ham
 burg\, 21109\, Deutschland;X-APPLE-RADIUS=100;X-TITLE=Bücherhalle Kirchdo
 rf:geo:0,0
END:VEVENT
BEGIN:VTIMEZONE
TZID:Europe/Berlin
X-LIC-LOCATION:Europe/Berlin
BEGIN:DAYLIGHT
DTSTART:20260329T030000
TZOFFSETFROM:+0100
TZOFFSETTO:+0200
TZNAME:CEST
END:DAYLIGHT
END:VTIMEZONE
END:VCALENDAR