BEGIN:VCALENDAR
VERSION:2.0
PRODID:-//wp-events-plugin.com//7.2.3.1//EN
TZID:Europe/Berlin
X-WR-TIMEZONE:Europe/Berlin
BEGIN:VEVENT
UID:2189@inselrundblick.de
DTSTART;TZID=Europe/Berlin:20260202T151500
DTEND;TZID=Europe/Berlin:20270104T182000
DTSTAMP:20260314T180705Z
URL:https://inselrundblick.de/events/ballett-fuer-kinder/
SUMMARY:Ballett für Kinder und Jugendliche
DESCRIPTION:Jeden Montag Ballet für Kinder und Jugendliche. Im Rahmen von
  Bewegung im BüWi. Jede*r die/der Interesse hat\, ist herzlich zu einer S
 chnupperstunde eingeladen.\nTrainingszeiten\n3-4  Jahre Montag 15:15-16:0
 0 Uhr\n5-6  Jahre Montag 16:00-16:45 Uhr\n6-9  Jahre Montag 16:45-17:30 
 Uhr\n10-16 Jahre Montag 17:30-18:20 Uhr\n\nAnsprechpartner*in: Olga Wiegan
 d (SV Wilhelmsburg)\, Tel: 040 4105407\nSV Wilhelmsburg 040 – 754 23 23\
 ngeschaeftsstelle@svwilhelmsburg.de
ATTACH;FMTTYPE=image/jpeg:https://inselrundblick.de/wp-content/uploads/202
 5/12/ballet-4941737_1280.jpg
CATEGORIES:Kinder,Regelmäßig,Sport
LOCATION:Bürgerhaus Wilhelmsburg (BüWi)\, Mengestraße 20\, Hamburg\, 211
 07\, Wilhelmsburg\, Deutschland
X-APPLE-STRUCTURED-LOCATION;VALUE=URI;X-ADDRESS=Mengestraße 20\, Hamburg\,
  21107\, Wilhelmsburg\, Deutschland;X-APPLE-RADIUS=100;X-TITLE=Bürgerhaus
  Wilhelmsburg (BüWi):geo:0,0
END:VEVENT
BEGIN:VTIMEZONE
TZID:Europe/Berlin
X-LIC-LOCATION:Europe/Berlin
BEGIN:STANDARD
DTSTART:20251026T020000
TZOFFSETFROM:+0200
TZOFFSETTO:+0100
TZNAME:CET
END:STANDARD
BEGIN:DAYLIGHT
DTSTART:20260329T030000
TZOFFSETFROM:+0100
TZOFFSETTO:+0200
TZNAME:CEST
END:DAYLIGHT
BEGIN:STANDARD
DTSTART:20261025T020000
TZOFFSETFROM:+0200
TZOFFSETTO:+0100
TZNAME:CET
END:STANDARD
END:VTIMEZONE
END:VCALENDAR